BEGIN:VCALENDAR
VERSION:2.0
PRODID:-//Kaua&#039;i Hospice - ECPv6.15.20//NONSGML v1.0//EN
CALSCALE:GREGORIAN
METHOD:PUBLISH
X-ORIGINAL-URL:https://kauaihospice.org
X-WR-CALDESC:Events for Kaua&#039;i Hospice
REFRESH-INTERVAL;VALUE=DURATION:PT1H
X-Robots-Tag:noindex
X-PUBLISHED-TTL:PT1H
BEGIN:VTIMEZONE
TZID:Pacific/Honolulu
BEGIN:STANDARD
TZOFFSETFROM:-1000
TZOFFSETTO:-1000
TZNAME:HST
DTSTART:20250101T000000
END:STANDARD
END:VTIMEZONE
BEGIN:VEVENT
DTSTART;TZID=Pacific/Honolulu:20260430T170000
DTEND;TZID=Pacific/Honolulu:20260430T183000
DTSTAMP:20260424T064130
CREATED:20260411T000708Z
LAST-MODIFIED:20260411T000708Z
UID:7679-1777568400-1777573800@kauaihospice.org
SUMMARY:Journey Through Grief
DESCRIPTION:Community Grief Support \nJourney Through Grief \nA Pathway to Hope\, Renewal and Inner Peace \nJoin us for a free five-week support group for adults grieving the death of a spouse\, parent\, sibling\, child\, or friend. \nTo register call (808)245-7277. Pre-registration is required. \n 
URL:https://kauaihospice.org/event/journey-through-grief-3/2026-04-30/
LOCATION:Kauai Hospice\, 4457 Pahee Street\, Lihue\, HI\, 96766\, United States
ORGANIZER;CN="Kauai Hospice":MAILTO:info@kauaihospice.org
END:VEVENT
END:VCALENDAR