BEGIN:VCALENDAR
VERSION:2.0
PRODID:-//Kaua&#039;i Hospice - ECPv6.15.20//NONSGML v1.0//EN
CALSCALE:GREGORIAN
METHOD:PUBLISH
X-WR-CALNAME:Kaua&#039;i Hospice
X-ORIGINAL-URL:https://kauaihospice.org
X-WR-CALDESC:Events for Kaua&#039;i Hospice
REFRESH-INTERVAL;VALUE=DURATION:PT1H
X-Robots-Tag:noindex
X-PUBLISHED-TTL:PT1H
BEGIN:VTIMEZONE
TZID:Pacific/Honolulu
BEGIN:STANDARD
TZOFFSETFROM:-1000
TZOFFSETTO:-1000
TZNAME:HST
DTSTART:20220101T000000
END:STANDARD
END:VTIMEZONE
BEGIN:VEVENT
DTSTART;TZID=Pacific/Honolulu:20260430T170000
DTEND;TZID=Pacific/Honolulu:20260430T183000
DTSTAMP:20260424T123151
CREATED:20260411T000708Z
LAST-MODIFIED:20260411T000708Z
UID:7679-1777568400-1777573800@kauaihospice.org
SUMMARY:Journey Through Grief
DESCRIPTION:Community Grief Support \nJourney Through Grief \nA Pathway to Hope\, Renewal and Inner Peace \nJoin us for a free five-week support group for adults grieving the death of a spouse\, parent\, sibling\, child\, or friend. \nTo register call (808)245-7277. Pre-registration is required. \n 
URL:https://kauaihospice.org/event/journey-through-grief-3/2026-04-30/
LOCATION:Kauai Hospice\, 4457 Pahee Street\, Lihue\, HI\, 96766\, United States
ORGANIZER;CN="Kauai Hospice":MAILTO:info@kauaihospice.org
END:VEVENT
BEGIN:VEVENT
DTSTART;TZID=Pacific/Honolulu:20260423T170000
DTEND;TZID=Pacific/Honolulu:20260423T183000
DTSTAMP:20260424T123151
CREATED:20260411T000708Z
LAST-MODIFIED:20260411T000708Z
UID:7678-1776963600-1776969000@kauaihospice.org
SUMMARY:Journey Through Grief
DESCRIPTION:Community Grief Support \nJourney Through Grief \nA Pathway to Hope\, Renewal and Inner Peace \nJoin us for a free five-week support group for adults grieving the death of a spouse\, parent\, sibling\, child\, or friend. \nTo register call (808)245-7277. Pre-registration is required. \n 
URL:https://kauaihospice.org/event/journey-through-grief-3/2026-04-23/
LOCATION:Kauai Hospice\, 4457 Pahee Street\, Lihue\, HI\, 96766\, United States
ORGANIZER;CN="Kauai Hospice":MAILTO:info@kauaihospice.org
END:VEVENT
BEGIN:VEVENT
DTSTART;TZID=Pacific/Honolulu:20260416T170000
DTEND;TZID=Pacific/Honolulu:20260416T183000
DTSTAMP:20260424T123151
CREATED:20260411T000708Z
LAST-MODIFIED:20260411T000708Z
UID:7677-1776358800-1776364200@kauaihospice.org
SUMMARY:Journey Through Grief
DESCRIPTION:Community Grief Support \nJourney Through Grief \nA Pathway to Hope\, Renewal and Inner Peace \nJoin us for a free five-week support group for adults grieving the death of a spouse\, parent\, sibling\, child\, or friend. \nTo register call (808)245-7277. Pre-registration is required. \n 
URL:https://kauaihospice.org/event/journey-through-grief-3/2026-04-16/
LOCATION:Kauai Hospice\, 4457 Pahee Street\, Lihue\, HI\, 96766\, United States
ORGANIZER;CN="Kauai Hospice":MAILTO:info@kauaihospice.org
END:VEVENT
BEGIN:VEVENT
DTSTART;TZID=Pacific/Honolulu:20260115T180000
DTEND;TZID=Pacific/Honolulu:20260115T200000
DTSTAMP:20260424T123151
CREATED:20251101T022257Z
LAST-MODIFIED:20251101T022257Z
UID:7442-1768500000-1768507200@kauaihospice.org
SUMMARY:Lanterns of Love: Last day of lighting!
DESCRIPTION:Lanterns will be illuminated nightly from December 15\, 2025 – January 15\, 2026\, 6:00 p.m. – 9:00 p.m.\, at 4457 Pahe‘e Street\, Līhu‘e. \nYou’re welcome to visit during walking hours to see your lantern glowing among hundreds of others\, symbolizing light\, love\, and remembrance.
URL:https://kauaihospice.org/event/lanterns-of-love-last-day-of-lighting/
LOCATION:Kauai Hospice\, 4457 Pahee Street\, Lihue\, HI\, 96766\, United States
ORGANIZER;CN="Kauai Hospice":MAILTO:info@kauaihospice.org
END:VEVENT
BEGIN:VEVENT
DTSTART;TZID=Pacific/Honolulu:20251215T180000
DTEND;TZID=Pacific/Honolulu:20251215T210000
DTSTAMP:20260424T123151
CREATED:20251101T022119Z
LAST-MODIFIED:20251101T022119Z
UID:7440-1765821600-1765832400@kauaihospice.org
SUMMARY:Lanterns of Love: Lighting begins!
DESCRIPTION:Lanterns will be illuminated nightly from December 15\, 2025 – January 15\, 2026\, 6:00 p.m. – 9:00 p.m.\, at 4457 Pahe‘e Street\, Līhu‘e. \nYou’re welcome to visit during walking hours to see your lantern glowing among many others\, symbolizing light\, love\, and remembrance.
URL:https://kauaihospice.org/event/lanterns-of-love-lighting-begins/
LOCATION:Kauai Hospice\, 4457 Pahee Street\, Lihue\, HI\, 96766\, United States
ORGANIZER;CN="Kauai Hospice":MAILTO:info@kauaihospice.org
END:VEVENT
BEGIN:VEVENT
DTSTART;TZID=Pacific/Honolulu:20251209T180000
DTEND;TZID=Pacific/Honolulu:20251209T190000
DTSTAMP:20260424T123151
CREATED:20251101T021201Z
LAST-MODIFIED:20251101T021201Z
UID:7438-1765303200-1765306800@kauaihospice.org
SUMMARY:Candlelighting Memorial at St. Sylvester Catholic Church
DESCRIPTION:Kaua‘i Hospice invites anyone who has experienced the death of a loved one\, regardless of when the death occurred\, to attend our annual candle lighting memorial and to light a candle in memory of your loved one. These events are free of charge. \nSt. Sylvester Catholic Church\n2390 Kolo Rd.\, Kilauea\nDec. 9\, 2025 | 6 p.m. – 7 p.m.
URL:https://kauaihospice.org/event/candlelighting-memorial-at-st-sylvester-catholic-church/
LOCATION:Saint Sylvester Catholic Church\, 2390 Kolo Rd.\, Kilauea\, HI\, 96754\, United States
ORGANIZER;CN="Kauai Hospice":MAILTO:info@kauaihospice.org
END:VEVENT
BEGIN:VEVENT
DTSTART;TZID=Pacific/Honolulu:20251204T180000
DTEND;TZID=Pacific/Honolulu:20251204T190000
DTSTAMP:20260424T123151
CREATED:20251101T021011Z
LAST-MODIFIED:20251101T021011Z
UID:7436-1764871200-1764874800@kauaihospice.org
SUMMARY:Candlelighting Memorial at Hanapēpē Hawaiian Congregational Church
DESCRIPTION:Kaua‘i Hospice invites anyone who has experienced the death of a loved one\, regardless of when the death occurred\, to attend our annual candle lighting memorial and to light a candle in memory of your loved one. These events are free of charge. \nHanapēpē Hawaiian Congregational Church\n3815 Hanapepe Rd.\, Hanapepe\nDec. 4\, 2025 | 6 p.m. – 7 p.m.
URL:https://kauaihospice.org/event/candlelighting-memorial-at-hanapepe-hawaiian-congregational-church/
LOCATION:Hanapepe Hawaiian Congregational Church\, 3815 Hanapepe Rd.\, Hanapepe\, HI\, 96705\, United States
ORGANIZER;CN="Kauai Hospice":MAILTO:info@kauaihospice.org
END:VEVENT
BEGIN:VEVENT
DTSTART;TZID=Pacific/Honolulu:20251201T180000
DTEND;TZID=Pacific/Honolulu:20251201T190000
DTSTAMP:20260424T123151
CREATED:20251101T020445Z
LAST-MODIFIED:20251101T020445Z
UID:7434-1764612000-1764615600@kauaihospice.org
SUMMARY:Candlelighting Memorial at Immaculate Conception Catholic Church
DESCRIPTION:Kaua‘i Hospice invites anyone who has experienced the death of a loved one\, regardless of when the death occurred\, to attend our annual candle lighting memorial and to light a candle in memory of your loved one. These events are free of charge. \nImmaculate Conception Catholic Church\n4453 Kapaia Rd.\, Lihue\nDec. 1\, 2025 | 6 p.m. – 7 p.m.
URL:https://kauaihospice.org/event/candlelighting-memorial-at-immaculate-conception-catholic-church/
LOCATION:Immaculate Conception Church\, 4453 Kapaia Rd.\, Lihue\, HI\, 96766\, United States
ORGANIZER;CN="Kauai Hospice":MAILTO:info@kauaihospice.org
END:VEVENT
BEGIN:VEVENT
DTSTART;VALUE=DATE:20251110
DTEND;VALUE=DATE:20251111
DTSTAMP:20260424T123151
CREATED:20251101T022840Z
LAST-MODIFIED:20251101T023049Z
UID:7444-1762732800-1762819199@kauaihospice.org
SUMMARY:Lanterns of Love: Online sales begin!
DESCRIPTION:Lanterns of Love online sales open November 10\, 2025. Reserve a lantern and personalized wooden heart in memory of your loved one. Lanterns will be illuminated December 15\, 2025 – January 15\, 2026\, nightly from 6–9 p.m. at Kaua‘i Hospice. \nA tribute to our loved ones remembered with light and love. \nMore Information:Call (808) 245-7277 or visit kauaihospice.org
URL:https://kauaihospice.org/event/lanterns-of-love-online-sales-begin/
LOCATION:HI
ORGANIZER;CN="Kauai Hospice":MAILTO:info@kauaihospice.org
END:VEVENT
BEGIN:VEVENT
DTSTART;TZID=Pacific/Honolulu:20241210T180000
DTEND;TZID=Pacific/Honolulu:20241210T190000
DTSTAMP:20260424T123151
CREATED:20241126T210337Z
LAST-MODIFIED:20241126T210524Z
UID:6351-1733853600-1733857200@kauaihospice.org
SUMMARY:Candlelighting Memorial (Kilauea)
DESCRIPTION:
URL:https://kauaihospice.org/event/candlelighting-memorial-4/
LOCATION:Saint Sylvester Catholic Church\, 2390 Kolo Rd.\, Kilauea\, HI\, 96754\, United States
ORGANIZER;CN="Kauai Hospice":MAILTO:info@kauaihospice.org
END:VEVENT
BEGIN:VEVENT
DTSTART;TZID=Pacific/Honolulu:20241205T180000
DTEND;TZID=Pacific/Honolulu:20241205T190000
DTSTAMP:20260424T123151
CREATED:20241126T205858Z
LAST-MODIFIED:20241126T210440Z
UID:6349-1733421600-1733425200@kauaihospice.org
SUMMARY:Candlelighting Memorial (Hanapepe)
DESCRIPTION:
URL:https://kauaihospice.org/event/candlelighting-memorials-2/
LOCATION:Hanapepe Hawaiian Congregational Church\, 3815 Hanapepe Rd.\, Hanapepe\, HI\, 96705\, United States
ORGANIZER;CN="Kauai Hospice":MAILTO:info@kauaihospice.org
END:VEVENT
BEGIN:VEVENT
DTSTART;TZID=Pacific/Honolulu:20241202T180000
DTEND;TZID=Pacific/Honolulu:20241202T190000
DTSTAMP:20260424T123151
CREATED:20241126T205512Z
LAST-MODIFIED:20241126T210505Z
UID:6346-1733162400-1733166000@kauaihospice.org
SUMMARY:Candlelighting Memorial (Lihue)
DESCRIPTION:
URL:https://kauaihospice.org/event/candlelighting-memorials/
LOCATION:Immaculate Conception Church\, 4453 Kapaia Rd.\, Lihue\, HI\, 96766\, United States
ORGANIZER;CN="Kauai Hospice":MAILTO:info@kauaihospice.org
END:VEVENT
BEGIN:VEVENT
DTSTART;TZID=Pacific/Honolulu:20240925T163000
DTEND;TZID=Pacific/Honolulu:20240925T180000
DTSTAMP:20260424T123151
CREATED:20240805T210308Z
LAST-MODIFIED:20240805T210825Z
UID:4346-1727281800-1727287200@kauaihospice.org
SUMMARY:Journey Through Grief
DESCRIPTION:Click on flyer link for details: \nJourney Through Grief 8.21.24pdf reduced
URL:https://kauaihospice.org/event/journey-through-grief-2/2024-09-25/
LOCATION:Kauai Hospice\, 4457 Pahee Street\, Lihue\, HI\, 96766\, United States
ORGANIZER;CN="Kauai Hospice":MAILTO:info@kauaihospice.org
END:VEVENT
BEGIN:VEVENT
DTSTART;TZID=Pacific/Honolulu:20240918T163000
DTEND;TZID=Pacific/Honolulu:20240918T180000
DTSTAMP:20260424T123151
CREATED:20240805T210308Z
LAST-MODIFIED:20240805T210825Z
UID:4345-1726677000-1726682400@kauaihospice.org
SUMMARY:Journey Through Grief
DESCRIPTION:Click on flyer link for details: \nJourney Through Grief 8.21.24pdf reduced
URL:https://kauaihospice.org/event/journey-through-grief-2/2024-09-18/
LOCATION:Kauai Hospice\, 4457 Pahee Street\, Lihue\, HI\, 96766\, United States
ORGANIZER;CN="Kauai Hospice":MAILTO:info@kauaihospice.org
END:VEVENT
BEGIN:VEVENT
DTSTART;TZID=Pacific/Honolulu:20240911T163000
DTEND;TZID=Pacific/Honolulu:20240911T180000
DTSTAMP:20260424T123151
CREATED:20240805T210308Z
LAST-MODIFIED:20240805T210825Z
UID:4344-1726072200-1726077600@kauaihospice.org
SUMMARY:Journey Through Grief
DESCRIPTION:Click on flyer link for details: \nJourney Through Grief 8.21.24pdf reduced
URL:https://kauaihospice.org/event/journey-through-grief-2/2024-09-11/
LOCATION:Kauai Hospice\, 4457 Pahee Street\, Lihue\, HI\, 96766\, United States
ORGANIZER;CN="Kauai Hospice":MAILTO:info@kauaihospice.org
END:VEVENT
BEGIN:VEVENT
DTSTART;TZID=Pacific/Honolulu:20240904T163000
DTEND;TZID=Pacific/Honolulu:20240904T180000
DTSTAMP:20260424T123151
CREATED:20240805T210308Z
LAST-MODIFIED:20240805T210824Z
UID:4343-1725467400-1725472800@kauaihospice.org
SUMMARY:Journey Through Grief
DESCRIPTION:Click on flyer link for details: \nJourney Through Grief 8.21.24pdf reduced
URL:https://kauaihospice.org/event/journey-through-grief-2/2024-09-04/
LOCATION:Kauai Hospice\, 4457 Pahee Street\, Lihue\, HI\, 96766\, United States
ORGANIZER;CN="Kauai Hospice":MAILTO:info@kauaihospice.org
END:VEVENT
BEGIN:VEVENT
DTSTART;TZID=Pacific/Honolulu:20240828T163000
DTEND;TZID=Pacific/Honolulu:20240828T180000
DTSTAMP:20260424T123151
CREATED:20240805T210308Z
LAST-MODIFIED:20240805T210824Z
UID:4342-1724862600-1724868000@kauaihospice.org
SUMMARY:Journey Through Grief
DESCRIPTION:Click on flyer link for details: \nJourney Through Grief 8.21.24pdf reduced
URL:https://kauaihospice.org/event/journey-through-grief-2/2024-08-28/
LOCATION:Kauai Hospice\, 4457 Pahee Street\, Lihue\, HI\, 96766\, United States
ORGANIZER;CN="Kauai Hospice":MAILTO:info@kauaihospice.org
END:VEVENT
BEGIN:VEVENT
DTSTART;TZID=Pacific/Honolulu:20240821T163000
DTEND;TZID=Pacific/Honolulu:20240821T180000
DTSTAMP:20260424T123151
CREATED:20240805T210308Z
LAST-MODIFIED:20240805T210824Z
UID:4339-1724257800-1724263200@kauaihospice.org
SUMMARY:Journey Through Grief
DESCRIPTION:Click on flyer link for details: \nJourney Through Grief 8.21.24pdf reduced
URL:https://kauaihospice.org/event/journey-through-grief-2/2024-08-21/
LOCATION:Kauai Hospice\, 4457 Pahee Street\, Lihue\, HI\, 96766\, United States
ORGANIZER;CN="Kauai Hospice":MAILTO:info@kauaihospice.org
END:VEVENT
BEGIN:VEVENT
DTSTART;TZID=Pacific/Honolulu:20240516T173000
DTEND;TZID=Pacific/Honolulu:20240516T190000
DTSTAMP:20260424T123151
CREATED:20240104T005903Z
LAST-MODIFIED:20240104T010053Z
UID:3852-1715880600-1715886000@kauaihospice.org
SUMMARY:From Grief To Gratitude (A Bereavement Workshop) - The Healing Power of Music: Using Songs & Lyrics to Give Voice to Your Journey
DESCRIPTION:2024 From Grief & Gratitude\nA Bereavement Care Workshop\nThis series of six Bereavement Care workshops will help guide you through the range of feelings we experience after a loved one dies. We will explore new tools\, techniques and skills to help you navigate through the changes of loss\, prioritize self-care\, and embrace like with more joy as you mourn the loss of your beloved. Come along on this healing journey as we progress from grief to gratitude in 2024. Please call Kaua’i Hospice at (808)245-7277 to register. Contact Caroline Miura\, Bereavement & Spiritual Care Coordinator for more information. \nCommunication Beyond the Grave: How to Keep Your Love Alive  \nThursday\, January 18\, 2024 – 5:30 p.m. to 7:00 p.m. \nSpinning Out of Control: Reflecting on What Knocks You Off Balance & What Helps You Get Back on Track \nThursday\, March 21\, 2024 – 5:30 p.m. to 7:00 p.m. \nThe Healing Power of Music: Using Songs and Lyrics to Give Voice to Your Journey \nThursday\, May 16\, 2024 – 5:30 p.m. to 7:00 p.m. \nMind over Matter: Practicing the Emotional Freedom Technique (Tapping) \nThursday\, July 18\, 2024 – 5:30 p.m. to 7:00 p.m. \nLoving What Is: How Our Thoughts Cause Our Suffering and What to Do About It \nThursday\, September 19\, 2024 – 5:30 p.m. to 7:00 p.m. \nHoly Listening: Moving From Grief to Gratitude in a Safe and Authentic Way \nThursday\, November 21\, 2024 – 5:30 p.m. to 7:00 p.m.
URL:https://kauaihospice.org/event/from-grief-to-gratitude/
LOCATION:Kauai Hospice\, 4457 Pahee Street\, Lihue\, HI\, 96766\, United States
ORGANIZER;CN="Kauai Hospice":MAILTO:info@kauaihospice.org
END:VEVENT
BEGIN:VEVENT
DTSTART;TZID=Pacific/Honolulu:20240321T173000
DTEND;TZID=Pacific/Honolulu:20240321T190000
DTSTAMP:20260424T123151
CREATED:20240104T002905Z
LAST-MODIFIED:20240104T002905Z
UID:3850-1711042200-1711047600@kauaihospice.org
SUMMARY:From Grief to Gratitude (A Bereavement Care Workshop) - Spinning Out of Control: Reflecting on What Knocks You Off Balance & What Helps You Get Back on Track
DESCRIPTION:2024 From Grief & Gratitude\nA Bereavement Care Workshop\nThis series of six Bereavement Care workshops will help guide you through the range of feelings we experience after a loved one dies. We will explore new tools\, techniques and skills to help you navigate through the changes of loss\, prioritize self-care\, and embrace like with more joy as you mourn the loss of your beloved. Come along on this healing journey as we progress from grief to gratitude in 2024. Please call Kaua’i Hospice at (808)245-7277 to register. Contact Caroline Miura\, Bereavement & Spiritual Care Coordinator for more information. \nCommunication Beyond the Grave: How to Keep Your Love Alive  \nThursday\, January 18\, 2024 – 5:30 p.m. to 7:00 p.m. \nSpinning Out of Control: Reflecting on What Knocks You Off Balance & What Helps You Get Back on Track \nThursday\, March 21\, 2024 – 5:30 p.m. to 7:00 p.m. \nThe Healing Power of Music: Using Songs and Lyrics to Give Voice to Your Journey \nThursday\, May 16\, 2024 – 5:30 p.m. to 7:00 p.m. \nMind over Matter: Practicing the Emotional Freedom Technique (Tapping) \nThursday\, July 18\, 2024 – 5:30 p.m. to 7:00 p.m. \nLoving What Is: How Our Thoughts Cause Our Suffering and What to Do About It \nThursday\, September 19\, 2024 – 5:30 p.m. to 7:00 p.m. \nHoly Listening: Moving From Grief to Gratitude in a Safe and Authentic Way \nThursday\, November 21\, 2024 – 5:30 p.m. to 7:00 p.m.
URL:https://kauaihospice.org/event/from-grief-to-gratitude-a-bereavement-care-workshop-spinning-out-of-control-reflecting-on-what-knocks-you-off-balance-what-helps-you-get-back-on-track/
LOCATION:Kauai Hospice\, 4457 Pahee Street\, Lihue\, HI\, 96766\, United States
ORGANIZER;CN="Kauai Hospice":MAILTO:info@kauaihospice.org
END:VEVENT
BEGIN:VEVENT
DTSTART;TZID=Pacific/Honolulu:20240123T170000
DTEND;TZID=Pacific/Honolulu:20240123T183000
DTSTAMP:20260424T123151
CREATED:20240104T012224Z
LAST-MODIFIED:20240104T012427Z
UID:3858-1706029200-1706034600@kauaihospice.org
SUMMARY:Journey Through Grief Support Group (6 weeks)
DESCRIPTION:Journey Through Grief\, A pathway to hope\, renewal and inner peace.  \nFree six-week adult grief support group starting Tuesday\, January 23\, 2024.  \nTo register call (808)245-7277. Pre-registration required. \nWhen a loved one dies we often experience complex\, confusing and disorienting feelings. In a supportive way\, you will receive information\, education and encouragement to explore these feelings and learn how loss affects and transforms us. \nLocation: Kaua’i Hospice\, 4457 Pahe’e St. Lihue\, HI 96766 \nDates/Times: Tuesdays\, 5 p.m. – 6:30 p.m.
URL:https://kauaihospice.org/event/journey-through-grief-support-group-6-weeks/2024-01-23/
LOCATION:Kauai Hospice\, 4457 Pahee Street\, Lihue\, HI\, 96766\, United States
ORGANIZER;CN="Kauai Hospice":MAILTO:info@kauaihospice.org
END:VEVENT
BEGIN:VEVENT
DTSTART;TZID=Pacific/Honolulu:20240118T173000
DTEND;TZID=Pacific/Honolulu:20240118T190000
DTSTAMP:20260424T123151
CREATED:20240104T000620Z
LAST-MODIFIED:20240104T000620Z
UID:3773-1705599000-1705604400@kauaihospice.org
SUMMARY:From Grief to Gratitude (A Bereavement Care Workshop) - Communication Beyond the Grace: How to Keep Your Love Alive
DESCRIPTION:2024 From Grief & Gratitude\nA Bereavement Care Workshop\nThis series of six Bereavement Care workshops will help guide you through the range of feelings we experience after a loved one dies. We will explore new tools\, techniques and skills to help you navigate through the changes of loss\, prioritize self-care\, and embrace like with more joy as you mourn the loss of your beloved. Come along on this healing journey as we progress from grief to gratitude in 2024. Please call Kaua’i Hospice at (808)245-7277 to register. Contact Caroline Miura\, Bereavement & Spiritual Care Coordinator for more information. \nCommunication Beyond the Grave: How to Keep Your Love Alive  \nThursday\, January 18\, 2024 – 5:30 p.m. to 7:00 p.m. \nSpinning Out of Control: Reflecting on What Knocks You Off Balance & What Helps You Get Back on Track \nThursday\, March 21\, 2024 – 5:30 p.m. to 7:00 p.m. \nThe Healing Power of Music: Using Songs and Lyrics to Give Voice to Your Journey \nThursday\, May 16\, 2024 – 5:30 p.m. to 7:00 p.m. \nMind over Matter: Practicing the Emotional Freedom Technique (Tapping) \nThursday\, July 18\, 2024 – 5:30 p.m. to 7:00 p.m. \nLoving What Is: How Our Thoughts Cause Our Suffering and What to Do About It \nThursday\, September 19\, 2024 – 5:30 p.m. to 7:00 p.m. \nHoly Listening: Moving From Grief to Gratitude in a Safe and Authentic Way \nThursday\, November 21\, 2024 – 5:30 p.m. to 7:00 p.m.
URL:https://kauaihospice.org/event/from-grief-to-gratitude-a-bereavement-care-workshop-communication-beyond-the-grace-how-to-keep-your-love-alive/
LOCATION:Kauai Hospice\, 4457 Pahee Street\, Lihue\, HI\, 96766\, United States
ORGANIZER;CN="Kauai Hospice":MAILTO:info@kauaihospice.org
END:VEVENT
BEGIN:VEVENT
DTSTART;TZID=Pacific/Honolulu:20231215T180000
DTEND;TZID=Pacific/Honolulu:20231215T220000
DTSTAMP:20260424T123151
CREATED:20240104T001327Z
LAST-MODIFIED:20240104T001657Z
UID:3775-1702663200-1702677600@kauaihospice.org
SUMMARY:Lanterns of Love
DESCRIPTION:Please join us as we remember our loved ones at the 4th Annual Lanterns of Love\nLanterns will be illuminated on: December 15\, 2023 through January 15\, 2024\nWalking hours: Daily\, 6pm – 9pm\nAddress: 4457 Paheʻe Street\nFor more infomation call (808)245-7277
URL:https://kauaihospice.org/event/lanterns-of-love/2023-12-15/
LOCATION:Kauai Hospice\, 4457 Pahee Street\, Lihue\, HI\, 96766\, United States
ORGANIZER;CN="Kauai Hospice":MAILTO:info@kauaihospice.org
END:VEVENT
BEGIN:VEVENT
DTSTART;TZID=Pacific/Honolulu:20231211T180000
DTEND;TZID=Pacific/Honolulu:20231211T190000
DTSTAMP:20260424T123151
CREATED:20231109T205137Z
LAST-MODIFIED:20231109T205137Z
UID:3615-1702317600-1702321200@kauaihospice.org
SUMMARY:Candlelighting Memorial
DESCRIPTION:
URL:https://kauaihospice.org/event/candlelighting-memorial-3/
LOCATION:Saint Sylvester Catholic Church\, 2390 Kolo Rd.\, Kilauea\, HI\, 96754\, United States
ORGANIZER;CN="Kauai Hospice":MAILTO:info@kauaihospice.org
END:VEVENT
BEGIN:VEVENT
DTSTART;TZID=Pacific/Honolulu:20231207T180000
DTEND;TZID=Pacific/Honolulu:20231207T190000
DTSTAMP:20260424T123151
CREATED:20231109T203602Z
LAST-MODIFIED:20231109T203602Z
UID:3612-1701972000-1701975600@kauaihospice.org
SUMMARY:Candlelighting Memorial
DESCRIPTION:
URL:https://kauaihospice.org/event/candlelighting-memorial-2/
LOCATION:Hanapepe Hawaiian Congregational Church\, 3815 Hanapepe Rd.\, Hanapepe\, HI\, 96705\, United States
ORGANIZER;CN="Kauai Hospice":MAILTO:info@kauaihospice.org
END:VEVENT
BEGIN:VEVENT
DTSTART;TZID=Pacific/Honolulu:20231204T180000
DTEND;TZID=Pacific/Honolulu:20231204T190000
DTSTAMP:20260424T123151
CREATED:20231109T202801Z
LAST-MODIFIED:20231109T202801Z
UID:3607-1701712800-1701716400@kauaihospice.org
SUMMARY:Candlelighting Memorial
DESCRIPTION:
URL:https://kauaihospice.org/event/candlelighting-memorial/
LOCATION:Immaculate Conception Church\, 4453 Kapaia Rd.\, Lihue\, HI\, 96766\, United States
ORGANIZER;CN="Kauai Hospice":MAILTO:info@kauaihospice.org
END:VEVENT
BEGIN:VEVENT
DTSTART;TZID=Pacific/Honolulu:20230909T090000
DTEND;TZID=Pacific/Honolulu:20230909T170000
DTSTAMP:20260424T123151
CREATED:20230801T230114Z
LAST-MODIFIED:20230801T230114Z
UID:3191-1694250000-1694278800@kauaihospice.org
SUMMARY:3-Day Volunteer Training
DESCRIPTION:3-Day Volunteer Training \nVolunteers are the heart of hospice. If you are compassionate and caring\, and have a desire to serve others\, volunteers can enhance the quality of life of our patients and their families. \nHospice Philosophy & History\, Cultivating the Art of Listening\, The Hospice Patient & Family\, Religious & Ethnic Considerations\, As Death Nears\, Grief and Loss\, The Role of the Hospice Volunteer\, Confidentiality & Ethics. \nTo enroll in the 3-day end-of-life care Volunteer Training\, please contact Rayne Regush\, Volunteer Coordinator for an application (808-245-7277)\, or complete the application online at www.kauaihospice.org. A pre-screening interview is also required. \nTraining Schedule – Must attend all three sessions \nSaturday\, September 9\, 2023 – 9:00 a.m. to 5:00 p.m. \nSunday\, September 10\, 2023 – 1:00 p.m. to 5:30 p.m. \nSaturday\, September 16\, 2023 – 9:00 a.m. to 4:30 p.m. \nTraining Location: Kauai Hospice \nAddress: 4457 Pahee Street\, Lihue HI 96766
URL:https://kauaihospice.org/event/3-day-volunteer-training/2023-09-09/
LOCATION:Kauai Hospice\, 4457 Pahee Street\, Lihue\, HI\, 96766\, United States
ORGANIZER;CN="Kauai Hospice":MAILTO:info@kauaihospice.org
END:VEVENT
BEGIN:VEVENT
DTSTART;TZID=Pacific/Honolulu:20230824T170000
DTEND;TZID=Pacific/Honolulu:20230824T183000
DTSTAMP:20260424T123151
CREATED:20230801T223828Z
LAST-MODIFIED:20230801T223828Z
UID:3180-1692896400-1692901800@kauaihospice.org
SUMMARY:Journey Through Grief
DESCRIPTION:Free six-week adult grief support group starting Thursday\, August 24\, 2023. A pathway to Hope\, Renewal\, and Inner Peace. When a loved one dies we often experience complex\, confusing and disorienting feelings. In a supportive way\, you will receive information\, education and encouragement to explore these feelings and learn how loss affects and transforms us. \nWho should attend? Adults who are grieving the death of a spouse\, parent\, sibling\, child\, or friend. Those who are grieving multiple losses. Those grieving loved ones who died suddenly. \nLocation: Kauai Hospice Office located at 4457 Pahee Street\, Lihue\, HI 96766 \nDates/Times: Thursdays from 5 – 6:30 p.m. on August 24\, 31\, September 7\, 14\, 21\, 28 \nPre-registration is required. \nTo register call (808)245-7277.
URL:https://kauaihospice.org/event/journey-through-grief/2023-08-24/
LOCATION:Kauai Hospice\, 4457 Pahee Street\, Lihue\, HI\, 96766\, United States
ORGANIZER;CN="Kauai Hospice":MAILTO:info@kauaihospice.org
END:VEVENT
END:VCALENDAR